BEGIN:VCALENDAR
VERSION:2.0
PRODID:icalendar-ruby
CALSCALE:GREGORIAN
METHOD:PUBLISH
BEGIN:VEVENT
DTSTAMP:20260421T154743Z
UID:ac03e223-066f-45ad-89f2-9e85bf44f266
DTSTART:20260529T100000
DTEND:20260531T180000
DESCRIPTION:<p><span style="color: rgb(64\, 77\, 87)\;">The Cannabis Expo i
 s the global marketplace for education\, innovation\, and business opportu
 nities serving the rapidly growing cannabis industry and its medicinal\, a
 gricultural\, financial\, and lifestyle sectors.</span></p><p><br></p><p><
 strong style="color: rgb(64\, 77\, 87)\;">The Cannabis Expo – Highlights
 :</strong></p><p><strong style="color: rgb(64\, 77\, 87)\;">Over 100 Exhib
 itors</strong><span style="color: rgb(64\, 77\, 87)\;"> – Showcasing lea
 ding brands and products representing every facet of the industry.</span><
 /p><p><strong style="color: rgb(64\, 77\, 87)\;">The Food Market</strong><
 span style="color: rgb(64\, 77\, 87)\;"> – Discover a variety of delicio
 us meals\, treats\, and beverages from local vendors.</span></p><p><strong
  style="color: rgb(64\, 77\, 87)\;">Mixology Festival</strong><span style=
 "color: rgb(64\, 77\, 87)\;"> – </span><span style="color: rgb(0\, 0\, 0
 )\;">A vibrant outdoor experience featuring live DJs\, music\, and enterta
 inment\, creating a festival-style atmosphere across the weekend.</span></
 p><p><strong style="color: rgb(64\, 77\, 87)\;">Co-located with The Vape E
 xpo & Mixology Fest</strong><span style="color: rgb(64\, 77\, 87)\;"> – 
 A dynamic event uniting the vaping community for an unforgettable experien
 ce of culture\, connection\, and excitement\, where enthusiasts meet\, eng
 age\, and celebrate the lifestyle.</span></p><p><strong style="color: rgb(
 64\, 77\, 87)\;">The Cannabis Expo Stage</strong><span style="color: rgb(6
 4\, 77\, 87)\;"> – Engaging talks and presentations exploring health\, e
 ducation\, agriculture\, legislation\, finance\, and more.</span></p><p><s
 trong style="color: rgb(64\, 77\, 87)\;">The VIP Delegate Lounge</strong><
 span style="color: rgb(64\, 77\, 87)\;"> – An exclusive hub for networki
 ng\, deal-making\, and connecting with key industry professionals.</span><
 /p><p><br></p><p><strong style="color: rgb(64\, 77\, 87)\;">Opening Hours:
 </strong></p><p><span style="color: rgb(64\, 77\, 87)\;">Friday 29 May –
  10:00 to 18:00</span></p><p><span style="color: rgb(64\, 77\, 87)\;">Satu
 rday 30 May – 10:00 to 18:00</span></p><p><span style="color: rgb(64\, 7
 7\, 87)\;">Sunday 31 May – 10:00 to 18:00</span></p><p><br></p><p><stron
 g style="color: rgb(64\, 77\, 87)\;">Delegate VIP Tickets Include</strong>
 <span style="color: rgb(64\, 77\, 87)\;">:</span></p><p><span style="color
 : rgb(64\, 77\, 87)\;">•⁠ ⁠</span><span style="color: rgb(0\, 0\, 0)
 \;">VIP Welcome Pack</span></p><p><span style="color: rgb(0\, 0\, 0)\;">
 •⁠ ⁠VIP Delegate Accreditation</span></p><p><span style="color: rgb(
 0\, 0\, 0)\;">•⁠ ⁠Exclusive Access to the VIP Delegate Lounge & Meet
 ing Rooms</span></p><p><span style="color: rgb(0\, 0\, 0)\;">•⁠ ⁠Fro
 nt-Row Seating at the stages</span></p><p><span style="color: rgb(0\, 0\, 
 0)\;">•⁠ ⁠Networking Happy Hour in the Delegate Lounge (Friday 17:00
 )</span></p><p><span style="color: rgb(0\, 0\, 0)\;">•⁠ ⁠Happy Hour 
 at the Mixology Fest (Saturday 18:00–20:00)</span></p>
LOCATION:161 Maude Street\, Sandton\, Gauteng
SUMMARY:The Cannabis Expo 2026
URL;VALUE=URI:https://thecannabisexpo.howler.co.za/thecannabisjhb26
END:VEVENT
END:VCALENDAR
